BEGIN:VCALENDAR
VERSION:2.0
PRODID:-//Jewish Family &amp; Career Services - ECPv6.15.13//NONSGML v1.0//EN
CALSCALE:GREGORIAN
METHOD:PUBLISH
X-ORIGINAL-URL:https://jfcslouisville.org
X-WR-CALDESC:Events for Jewish Family &amp; Career Services
REFRESH-INTERVAL;VALUE=DURATION:PT1H
X-Robots-Tag:noindex
X-PUBLISHED-TTL:PT1H
BEGIN:VTIMEZONE
TZID:America/Kentucky/Louisville
BEGIN:DAYLIGHT
TZOFFSETFROM:-0500
TZOFFSETTO:-0400
TZNAME:EDT
DTSTART:20210314T070000
END:DAYLIGHT
BEGIN:STANDARD
TZOFFSETFROM:-0400
TZOFFSETTO:-0500
TZNAME:EST
DTSTART:20211107T060000
END:STANDARD
BEGIN:DAYLIGHT
TZOFFSETFROM:-0500
TZOFFSETTO:-0400
TZNAME:EDT
DTSTART:20220313T070000
END:DAYLIGHT
BEGIN:STANDARD
TZOFFSETFROM:-0400
TZOFFSETTO:-0500
TZNAME:EST
DTSTART:20221106T060000
END:STANDARD
BEGIN:DAYLIGHT
TZOFFSETFROM:-0500
TZOFFSETTO:-0400
TZNAME:EDT
DTSTART:20230312T070000
END:DAYLIGHT
BEGIN:STANDARD
TZOFFSETFROM:-0400
TZOFFSETTO:-0500
TZNAME:EST
DTSTART:20231105T060000
END:STANDARD
END:VTIMEZONE
BEGIN:VEVENT
DTSTART;TZID=America/Kentucky/Louisville:20221103T180000
DTEND;TZID=America/Kentucky/Louisville:20221103T193000
DTSTAMP:20260421T112610
CREATED:20220913T151149Z
LAST-MODIFIED:20220913T151149Z
UID:3636-1667498400-1667503800@jfcslouisville.org
SUMMARY:2022 ACCOMMODATE Fair
DESCRIPTION:The Archdiocese of Louisville ACCOMMODATE Fair is being held on November 3\, 2022.  ACCOMMODATE is a college night targeted toward students with special learning needs.  JFCS Career Services will be there to talk with students and parents about how we can help students identify career pathways and educational options post-high school. \n\nThursday\, November 3\, 2022\n6:00 p.m. – 7:30 p.m.\nMercy Academy: 5801 Fegenbush Lane\, Louisville\, KY 40228\n\nQuestions: contact Lori Weiter\, lweiter@archlou.org or Mary Parola\, mparola@archlou.org
URL:https://jfcslouisville.org/event/2022-accommodate-fair/
LOCATION:Mercy Academy\, 5801 Fegenbush Lane\, Louisville\, KY\, 40228\, United States
END:VEVENT
END:VCALENDAR