BEGIN:VCALENDAR
VERSION:2.0
PRODID:-//Jewish Family &amp; Career Services - ECPv6.15.13//NONSGML v1.0//EN
CALSCALE:GREGORIAN
METHOD:PUBLISH
X-ORIGINAL-URL:https://jfcslouisville.org
X-WR-CALDESC:Events for Jewish Family &amp; Career Services
REFRESH-INTERVAL;VALUE=DURATION:PT1H
X-Robots-Tag:noindex
X-PUBLISHED-TTL:PT1H
BEGIN:VTIMEZONE
TZID:America/Kentucky/Louisville
BEGIN:DAYLIGHT
TZOFFSETFROM:-0500
TZOFFSETTO:-0400
TZNAME:EDT
DTSTART:20210314T070000
END:DAYLIGHT
BEGIN:STANDARD
TZOFFSETFROM:-0400
TZOFFSETTO:-0500
TZNAME:EST
DTSTART:20211107T060000
END:STANDARD
BEGIN:DAYLIGHT
TZOFFSETFROM:-0500
TZOFFSETTO:-0400
TZNAME:EDT
DTSTART:20220313T070000
END:DAYLIGHT
BEGIN:STANDARD
TZOFFSETFROM:-0400
TZOFFSETTO:-0500
TZNAME:EST
DTSTART:20221106T060000
END:STANDARD
BEGIN:DAYLIGHT
TZOFFSETFROM:-0500
TZOFFSETTO:-0400
TZNAME:EDT
DTSTART:20230312T070000
END:DAYLIGHT
BEGIN:STANDARD
TZOFFSETFROM:-0400
TZOFFSETTO:-0500
TZNAME:EST
DTSTART:20231105T060000
END:STANDARD
END:VTIMEZONE
BEGIN:VEVENT
DTSTART;TZID=America/Kentucky/Louisville:20220217T170000
DTEND;TZID=America/Kentucky/Louisville:20220217T180000
DTSTAMP:20260421T045852
CREATED:20220214T171135Z
LAST-MODIFIED:20220401T131551Z
UID:2463-1645117200-1645120800@jfcslouisville.org
SUMMARY:Managing Your Job Search Stress Workshop
DESCRIPTION:Does your job search have you stressed out? Would you like to learn tactics and coping strategies to reduce your stress? Join us for a free virtual workshop to learn five simple steps to lower stress and help you enhance your motivation during a job search. \nFor more information or to register for this free event\, email CareerServices@jfcslouisville.org or call 502-452-6341 x120.
URL:https://jfcslouisville.org/event/managing-your-job-search-stress-workshop/2022-02-17/
END:VEVENT
END:VCALENDAR